Package: BAGS Version: 2.49.0 Command: rm -rf BAGS.buildbin-libdir && mkdir BAGS.buildbin-libdir && /Users/biocbuild/BBS/utils/build-universal.sh BAGS_2.49.0.tar.gz /Library/Frameworks/R.framework/Resources/bin/R BAGS.buildbin-libdir StartedAt: 2025-10-25 01:28:28 -0400 (Sat, 25 Oct 2025) EndedAt: 2025-10-25 01:28:39 -0400 (Sat, 25 Oct 2025) EllapsedTime: 10.3 seconds RetCode: 0 Status: OK PackageFile: BAGS_2.49.0.tgz PackageFileSize: 317.4 KiB