Package: BADER Version: 1.47.0 Command: /home/biocbuild/R/R/bin/R CMD check --install=check:BADER.install-out.txt --library=/home/biocbuild/R/R/site-library --no-vignettes --timings BADER_1.47.0.tar.gz StartedAt: 2025-10-21 04:36:54 -0000 (Tue, 21 Oct 2025) EndedAt: 2025-10-21 04:37:11 -0000 (Tue, 21 Oct 2025) EllapsedTime: 17.0 seconds RetCode: 0 Status: OK CheckDir: BADER.Rcheck Warnings: 0