Package: BADER Version: 1.47.0 Command: /Library/Frameworks/R.framework/Resources/bin/R CMD check --install=check:BADER.install-out.txt --library=/Library/Frameworks/R.framework/Resources/library --no-vignettes --timings BADER_1.47.0.tar.gz StartedAt: 2025-10-19 18:29:16 -0400 (Sun, 19 Oct 2025) EndedAt: 2025-10-19 18:29:27 -0400 (Sun, 19 Oct 2025) EllapsedTime: 10.1 seconds RetCode: 0 Status: OK CheckDir: BADER.Rcheck Warnings: 0