Package: BADER Version: 1.47.0 Command: /Library/Frameworks/R.framework/Resources/bin/R CMD build --keep-empty-dirs --no-resave-data BADER StartedAt: 2025-10-19 15:40:16 -0400 (Sun, 19 Oct 2025) EndedAt: 2025-10-19 15:40:25 -0400 (Sun, 19 Oct 2025) EllapsedTime: 9.1 seconds RetCode: 0 Status: OK PackageFile: BADER_1.47.0.tar.gz PackageFileSize: 238.4 KiB