Package: BADER Version: 1.47.0 Maintainer: Andreas Neudecker MaintainerEmail: a.neudecker at arcor.de git_url: https://git.bioconductor.org/packages/BADER git_branch: devel git_last_commit: 887d472 git_last_commit_date: 2025-04-15 10:26:21 -0400 (Tue, 15 Apr 2025)