Package: AssessORF Version: 1.27.0 Command: /home/biocbuild/bbs-3.22-bioc/R/bin/R CMD INSTALL AssessORF StartedAt: 2025-10-20 15:35:06 -0400 (Mon, 20 Oct 2025) EndedAt: 2025-10-20 15:35:18 -0400 (Mon, 20 Oct 2025) EllapsedTime: 11.7 seconds RetCode: 0 Status: OK