Package: AssessORF Version: 1.27.0 Command: rm -rf AssessORF.buildbin-libdir && mkdir AssessORF.buildbin-libdir && /Users/biocbuild/BBS/utils/build-universal.sh AssessORF_1.27.0.tar.gz /Library/Frameworks/R.framework/Resources/bin/R AssessORF.buildbin-libdir StartedAt: 2025-10-20 02:56:45 -0400 (Mon, 20 Oct 2025) EndedAt: 2025-10-20 02:57:06 -0400 (Mon, 20 Oct 2025) EllapsedTime: 21.0 seconds RetCode: 0 Status: OK PackageFile: AssessORF_1.27.0.tgz PackageFileSize: 4.798 MiB