Package: AnnotationHubData Version: 1.39.2 Command: F:\biocbuild\bbs-3.22-bioc\R\bin\R.exe CMD check --no-multiarch --install=check:AnnotationHubData.install-out.txt --library=F:\biocbuild\bbs-3.22-bioc\R\library --no-vignettes --timings AnnotationHubData_1.39.2.tar.gz StartedAt: 2025-08-15 00:29:53 -0400 (Fri, 15 Aug 2025) EndedAt: 2025-08-15 00:40:58 -0400 (Fri, 15 Aug 2025) EllapsedTime: 665.6 seconds RetCode: 0 Status: WARNINGS CheckDir: AnnotationHubData.Rcheck Warnings: 1