Package: AnnotationHubData Version: 1.39.2 Command: /Library/Frameworks/R.framework/Resources/bin/R CMD INSTALL AnnotationHubData StartedAt: 2025-10-19 15:38:18 -0400 (Sun, 19 Oct 2025) EndedAt: 2025-10-19 15:39:16 -0400 (Sun, 19 Oct 2025) EllapsedTime: 57.6 seconds RetCode: 0 Status: OK