Package: AnnotationHubData Version: 1.39.2 Command: /Library/Frameworks/R.framework/Resources/bin/R CMD build --keep-empty-dirs --no-resave-data AnnotationHubData StartedAt: 2025-10-20 16:00:43 -0400 (Mon, 20 Oct 2025) EndedAt: 2025-10-20 16:01:30 -0400 (Mon, 20 Oct 2025) EllapsedTime: 46.8 seconds RetCode: 0 Status: OK PackageFile: AnnotationHubData_1.39.2.tar.gz PackageFileSize: 400.3 KiB