Package: AnnotationHubData Version: 1.39.2 Command: /Library/Frameworks/R.framework/Resources/bin/R CMD build --keep-empty-dirs --no-resave-data AnnotationHubData StartedAt: 2025-10-19 15:37:32 -0400 (Sun, 19 Oct 2025) EndedAt: 2025-10-19 15:37:49 -0400 (Sun, 19 Oct 2025) EllapsedTime: 17.2 seconds RetCode: 0 Status: OK PackageFile: AnnotationHubData_1.39.2.tar.gz PackageFileSize: 400.3 KiB