Package: AnnotationHub Version: 4.0.0 Command: /Library/Frameworks/R.framework/Resources/bin/R CMD INSTALL AnnotationHub StartedAt: 2025-11-17 17:38:54 -0500 (Mon, 17 Nov 2025) EndedAt: 2025-11-17 17:39:33 -0500 (Mon, 17 Nov 2025) EllapsedTime: 39.0 seconds RetCode: 0 Status: OK