Package: AnnotationHub Version: 4.0.0 Command: /Library/Frameworks/R.framework/Resources/bin/R CMD check --install=check:AnnotationHub.install-out.txt --library=/Library/Frameworks/R.framework/Resources/library --no-vignettes --timings AnnotationHub_4.0.0.tar.gz StartedAt: 2025-11-18 03:47:03 -0500 (Tue, 18 Nov 2025) EndedAt: 2025-11-18 03:55:19 -0500 (Tue, 18 Nov 2025) EllapsedTime: 496.9 seconds RetCode: 0 Status: OK CheckDir: AnnotationHub.Rcheck Warnings: 0