Package: AnnotationHub Version: 4.0.0 Command: /Library/Frameworks/R.framework/Resources/bin/R CMD build --keep-empty-dirs --no-resave-data AnnotationHub StartedAt: 2025-11-20 17:51:31 -0500 (Thu, 20 Nov 2025) EndedAt: 2025-11-20 17:55:50 -0500 (Thu, 20 Nov 2025) EllapsedTime: 258.9 seconds RetCode: 0 Status: OK PackageFile: AnnotationHub_4.0.0.tar.gz PackageFileSize: 978 KiB