Package: AnnotationForge Version: 1.51.0 Command: chmod a+r AnnotationForge -R && F:\biocbuild\bbs-3.22-bioc\R\bin\R.exe CMD build --keep-empty-dirs --no-resave-data AnnotationForge StartedAt: 2025-08-14 18:25:40 -0400 (Thu, 14 Aug 2025) EndedAt: 2025-08-14 18:31:04 -0400 (Thu, 14 Aug 2025) EllapsedTime: 323.6 seconds RetCode: 0 Status: OK PackageFile: AnnotationForge_1.51.0.tar.gz PackageFileSize: 3.811 MiB