Package: AnnotationDbi Version: 1.72.0 Command: rm -rf AnnotationDbi.buildbin-libdir && mkdir AnnotationDbi.buildbin-libdir && /Users/biocbuild/BBS/utils/build-universal.sh AnnotationDbi_1.72.0.tar.gz /Library/Frameworks/R.framework/Resources/bin/R AnnotationDbi.buildbin-libdir StartedAt: 2025-11-18 17:09:27 -0500 (Tue, 18 Nov 2025) EndedAt: 2025-11-18 17:10:19 -0500 (Tue, 18 Nov 2025) EllapsedTime: 51.8 seconds RetCode: 0 Status: OK PackageFile: AnnotationDbi_1.72.0.tgz PackageFileSize: 4.972 MiB