Package: AnnotationDbi Version: 1.72.0 Command: /Library/Frameworks/R.framework/Resources/bin/R CMD build --keep-empty-dirs --no-resave-data AnnotationDbi StartedAt: 2025-11-10 15:37:34 -0500 (Mon, 10 Nov 2025) EndedAt: 2025-11-10 15:38:00 -0500 (Mon, 10 Nov 2025) EllapsedTime: 26.3 seconds RetCode: 0 Status: OK PackageFile: AnnotationDbi_1.72.0.tar.gz PackageFileSize: 4.172 MiB