Package: AnnotationDbi Version: 1.72.0 Command: /Library/Frameworks/R.framework/Resources/bin/R CMD INSTALL AnnotationDbi StartedAt: 2025-11-17 17:17:17 -0500 (Mon, 17 Nov 2025) EndedAt: 2025-11-17 17:17:26 -0500 (Mon, 17 Nov 2025) EllapsedTime: 8.2 seconds RetCode: 0 Status: OK