Package: AnnotationDbi Version: 1.72.0 Command: /Library/Frameworks/R.framework/Resources/bin/R CMD check --install=check:AnnotationDbi.install-out.txt --library=/Library/Frameworks/R.framework/Resources/library --no-vignettes --timings AnnotationDbi_1.72.0.tar.gz StartedAt: 2025-11-21 14:50:14 -0500 (Fri, 21 Nov 2025) EndedAt: 2025-11-21 14:56:27 -0500 (Fri, 21 Nov 2025) EllapsedTime: 373.0 seconds RetCode: 0 Status: OK CheckDir: AnnotationDbi.Rcheck Warnings: 0