Package: Anaquin Version: 2.33.0 Command: /home/biocbuild/R/R/bin/R CMD INSTALL Anaquin StartedAt: 2025-10-16 21:35:20 -0000 (Thu, 16 Oct 2025) EndedAt: 2025-10-16 21:35:27 -0000 (Thu, 16 Oct 2025) EllapsedTime: 7.5 seconds RetCode: 0 Status: OK