Package: Anaquin Version: 2.33.0 Command: /home/biocbuild/R/R/bin/R CMD check --install=check:Anaquin.install-out.txt --library=/home/biocbuild/R/R/site-library --no-vignettes --timings Anaquin_2.33.0.tar.gz StartedAt: 2025-10-21 04:25:45 -0000 (Tue, 21 Oct 2025) EndedAt: 2025-10-21 04:27:07 -0000 (Tue, 21 Oct 2025) EllapsedTime: 82.0 seconds RetCode: 0 Status: OK CheckDir: Anaquin.Rcheck Warnings: 0