Package: Anaquin Version: 2.33.0 Command: /home/biocbuild/R/R/bin/R CMD build --keep-empty-dirs --no-resave-data Anaquin StartedAt: 2025-10-16 22:56:57 -0000 (Thu, 16 Oct 2025) EndedAt: 2025-10-16 22:57:31 -0000 (Thu, 16 Oct 2025) EllapsedTime: 34.0 seconds RetCode: 0 Status: OK PackageFile: Anaquin_2.33.0.tar.gz PackageFileSize: 420.8 KiB