Package: Anaquin Version: 2.33.0 Command: /home/biocbuild/bbs-3.22-bioc/R/bin/R CMD INSTALL Anaquin StartedAt: 2025-10-17 15:21:28 -0400 (Fri, 17 Oct 2025) EndedAt: 2025-10-17 15:21:33 -0400 (Fri, 17 Oct 2025) EllapsedTime: 5.4 seconds RetCode: 0 Status: OK