Package: Anaquin Version: 2.33.0 Command: /home/biocbuild/bbs-3.22-bioc/R/bin/R CMD check --install=check:Anaquin.install-out.txt --library=/home/biocbuild/bbs-3.22-bioc/R/site-library --timings Anaquin_2.33.0.tar.gz StartedAt: 2025-10-19 20:59:35 -0400 (Sun, 19 Oct 2025) EndedAt: 2025-10-19 21:00:57 -0400 (Sun, 19 Oct 2025) EllapsedTime: 82.1 seconds RetCode: 0 Status: OK CheckDir: Anaquin.Rcheck Warnings: 0