Package: Anaquin Version: 2.33.0 Command: /home/biocbuild/bbs-3.22-bioc/R/bin/R CMD build --keep-empty-dirs --no-resave-data --md5 Anaquin StartedAt: 2025-10-19 16:12:18 -0400 (Sun, 19 Oct 2025) EndedAt: 2025-10-19 16:12:43 -0400 (Sun, 19 Oct 2025) EllapsedTime: 25.0 seconds RetCode: 0 Status: OK PackageFile: Anaquin_2.33.0.tar.gz PackageFileSize: 454.1 KiB