Package: Anaquin Version: 2.33.0 Command: /Library/Frameworks/R.framework/Resources/bin/R CMD check --install=check:Anaquin.install-out.txt --library=/Library/Frameworks/R.framework/Resources/library --no-vignettes --timings Anaquin_2.33.0.tar.gz StartedAt: 2025-10-19 20:17:52 -0400 (Sun, 19 Oct 2025) EndedAt: 2025-10-19 20:19:21 -0400 (Sun, 19 Oct 2025) EllapsedTime: 89.5 seconds RetCode: 0 Status: OK CheckDir: Anaquin.Rcheck Warnings: 0