Package: Anaquin Version: 2.33.0 Command: rm -rf Anaquin.buildbin-libdir && mkdir Anaquin.buildbin-libdir && /Users/biocbuild/BBS/utils/build-universal.sh Anaquin_2.33.0.tar.gz /Library/Frameworks/R.framework/Resources/bin/R Anaquin.buildbin-libdir StartedAt: 2025-10-18 02:44:56 -0400 (Sat, 18 Oct 2025) EndedAt: 2025-10-18 02:45:07 -0400 (Sat, 18 Oct 2025) EllapsedTime: 11.3 seconds RetCode: 0 Status: OK PackageFile: Anaquin_2.33.0.tgz PackageFileSize: 455.7 KiB