Package: Anaquin Version: 2.33.0 Command: /Library/Frameworks/R.framework/Resources/bin/R CMD INSTALL Anaquin StartedAt: 2025-10-17 15:14:08 -0400 (Fri, 17 Oct 2025) EndedAt: 2025-10-17 15:14:11 -0400 (Fri, 17 Oct 2025) EllapsedTime: 3.2 seconds RetCode: 0 Status: OK