Package: Anaquin Version: 2.33.0 Command: /Library/Frameworks/R.framework/Resources/bin/R CMD build --keep-empty-dirs --no-resave-data Anaquin StartedAt: 2025-10-19 15:37:00 -0400 (Sun, 19 Oct 2025) EndedAt: 2025-10-19 15:37:11 -0400 (Sun, 19 Oct 2025) EllapsedTime: 11.1 seconds RetCode: 0 Status: OK PackageFile: Anaquin_2.33.0.tar.gz PackageFileSize: 452.3 KiB