Package: AnVILWorkflow Version: 1.10.0 Command: /Library/Frameworks/R.framework/Resources/bin/R CMD build --keep-empty-dirs --no-resave-data AnVILWorkflow StartedAt: 2025-11-17 19:04:19 -0500 (Mon, 17 Nov 2025) EndedAt: 2025-11-17 19:04:23 -0500 (Mon, 17 Nov 2025) EllapsedTime: 4.0 seconds RetCode: 0 Status: OK PackageFile: AnVILWorkflow_1.10.0.tar.gz PackageFileSize: 1.117 MiB