Package: AnVILWorkflow Version: 1.10.0 Command: rm -rf AnVILWorkflow.buildbin-libdir && mkdir AnVILWorkflow.buildbin-libdir && /Users/biocbuild/BBS/utils/build-universal.sh AnVILWorkflow_1.10.0.tar.gz /Library/Frameworks/R.framework/Resources/bin/R AnVILWorkflow.buildbin-libdir StartedAt: 2025-11-18 15:05:59 -0500 (Tue, 18 Nov 2025) EndedAt: 2025-11-18 15:06:02 -0500 (Tue, 18 Nov 2025) EllapsedTime: 3.0 seconds RetCode: 0 Status: OK PackageFile: AnVILWorkflow_1.10.0.tgz PackageFileSize: 1.018 MiB