Package: AnVILPublish Version: 1.19.1 Command: F:\biocbuild\bbs-3.22-bioc\R\bin\R.exe CMD INSTALL AnVILPublish StartedAt: 2025-08-14 15:29:19 -0400 (Thu, 14 Aug 2025) EndedAt: 2025-08-14 15:29:32 -0400 (Thu, 14 Aug 2025) EllapsedTime: 13.9 seconds RetCode: 0 Status: OK