Package: AnVILPublish Version: 1.19.1 Command: chmod a+r AnVILPublish -R && F:\biocbuild\bbs-3.22-bioc\R\bin\R.exe CMD build --keep-empty-dirs --no-resave-data AnVILPublish StartedAt: 2025-08-14 18:27:47 -0400 (Thu, 14 Aug 2025) EndedAt: 2025-08-14 18:29:37 -0400 (Thu, 14 Aug 2025) EllapsedTime: 110.0 seconds RetCode: 0 Status: OK PackageFile: AnVILPublish_1.19.1.tar.gz PackageFileSize: 236.1 KiB