Package: AnVILPublish Version: 1.19.1 Command: rm -rf AnVILPublish.buildbin-libdir && mkdir AnVILPublish.buildbin-libdir && F:\biocbuild\bbs-3.22-bioc\R\bin\R.exe CMD INSTALL --build --library=AnVILPublish.buildbin-libdir AnVILPublish_1.19.1.tar.gz StartedAt: 2025-08-15 09:44:06 -0400 (Fri, 15 Aug 2025) EndedAt: 2025-08-15 09:44:23 -0400 (Fri, 15 Aug 2025) EllapsedTime: 16.2 seconds RetCode: 0 Status: OK PackageFile: AnVILPublish_1.19.1.zip PackageFileSize: 267.3 KiB