Package: AnVILPublish Version: 1.20.0 Command: /Library/Frameworks/R.framework/Resources/bin/R CMD INSTALL AnVILPublish StartedAt: 2025-10-30 15:11:35 -0400 (Thu, 30 Oct 2025) EndedAt: 2025-10-30 15:12:05 -0400 (Thu, 30 Oct 2025) EllapsedTime: 30.5 seconds RetCode: 0 Status: OK