Package: AnVILPublish Version: 1.20.0 Command: /Library/Frameworks/R.framework/Resources/bin/R CMD check --install=check:AnVILPublish.install-out.txt --library=/Library/Frameworks/R.framework/Resources/library --no-vignettes --timings AnVILPublish_1.20.0.tar.gz StartedAt: 2025-10-31 18:32:09 -0400 (Fri, 31 Oct 2025) EndedAt: 2025-10-31 18:32:26 -0400 (Fri, 31 Oct 2025) EllapsedTime: 17.2 seconds RetCode: 0 Status: OK CheckDir: AnVILPublish.Rcheck Warnings: 0