Package: AnVILPublish Version: 1.20.0 Command: /Library/Frameworks/R.framework/Resources/bin/R CMD build --keep-empty-dirs --no-resave-data AnVILPublish StartedAt: 2025-10-31 15:41:54 -0400 (Fri, 31 Oct 2025) EndedAt: 2025-10-31 15:41:59 -0400 (Fri, 31 Oct 2025) EllapsedTime: 4.0 seconds RetCode: 0 Status: OK PackageFile: AnVILPublish_1.20.0.tar.gz PackageFileSize: 236.1 KiB