Package: AnVILBilling Version: 1.20.0 Command: /Library/Frameworks/R.framework/Resources/bin/R CMD build --keep-empty-dirs --no-resave-data AnVILBilling StartedAt: 2025-11-10 15:38:06 -0500 (Mon, 10 Nov 2025) EndedAt: 2025-11-10 15:38:12 -0500 (Mon, 10 Nov 2025) EllapsedTime: 6.1 seconds RetCode: 0 Status: OK PackageFile: AnVILBilling_1.20.0.tar.gz PackageFileSize: 1.006 MiB