Package: AnVILBase Version: 1.3.1 Command: /home/biocbuild/R/R/bin/R CMD INSTALL AnVILBase StartedAt: 2025-10-23 20:26:15 -0000 (Thu, 23 Oct 2025) EndedAt: 2025-10-23 20:26:39 -0000 (Thu, 23 Oct 2025) EllapsedTime: 24.0 seconds RetCode: 0 Status: OK