Package: AnVILBase Version: 1.3.1 Command: /home/biocbuild/R/R/bin/R CMD check --install=check:AnVILBase.install-out.txt --library=/home/biocbuild/R/R/site-library --no-vignettes --timings AnVILBase_1.3.1.tar.gz StartedAt: 2025-10-21 04:29:44 -0000 (Tue, 21 Oct 2025) EndedAt: 2025-10-21 04:30:24 -0000 (Tue, 21 Oct 2025) EllapsedTime: 40.0 seconds RetCode: 0 Status: OK CheckDir: AnVILBase.Rcheck Warnings: 0