Package: AnVILBase Version: 1.3.1 Command: rm -rf AnVILBase.buildbin-libdir && mkdir AnVILBase.buildbin-libdir && /Users/biocbuild/BBS/utils/build-universal.sh AnVILBase_1.3.1.tar.gz /Library/Frameworks/R.framework/Resources/bin/R AnVILBase.buildbin-libdir StartedAt: 2025-10-23 23:00:28 -0400 (Thu, 23 Oct 2025) EndedAt: 2025-10-23 23:00:30 -0400 (Thu, 23 Oct 2025) EllapsedTime: 2.1 seconds RetCode: 0 Status: OK PackageFile: AnVILBase_1.3.1.tgz PackageFileSize: 309.7 KiB