Package: AnVIL Version: 1.21.10 Command: /home/biocbuild/R/R/bin/R CMD INSTALL AnVIL StartedAt: 2025-10-16 21:19:22 -0000 (Thu, 16 Oct 2025) EndedAt: 2025-10-16 21:19:51 -0000 (Thu, 16 Oct 2025) EllapsedTime: 29.1 seconds RetCode: 0 Status: OK