Package: AnVIL Version: 1.21.10 Command: /home/biocbuild/R/R/bin/R CMD check --install=check:AnVIL.install-out.txt --library=/home/biocbuild/R/R/site-library --no-vignettes --timings AnVIL_1.21.10.tar.gz StartedAt: 2025-10-21 04:29:41 -0000 (Tue, 21 Oct 2025) EndedAt: 2025-10-21 04:30:39 -0000 (Tue, 21 Oct 2025) EllapsedTime: 58.1 seconds RetCode: 0 Status: OK CheckDir: AnVIL.Rcheck Warnings: 0