Package: AnVIL Version: 1.21.10 Command: /home/biocbuild/R/R/bin/R CMD build --keep-empty-dirs --no-resave-data AnVIL StartedAt: 2025-10-16 22:59:22 -0000 (Thu, 16 Oct 2025) EndedAt: 2025-10-16 22:59:37 -0000 (Thu, 16 Oct 2025) EllapsedTime: 15.0 seconds RetCode: 0 Status: OK PackageFile: AnVIL_1.21.10.tar.gz PackageFileSize: 1.231 MiB