Package: AnVIL Version: 1.21.9 Command: F:\biocbuild\bbs-3.22-bioc\R\bin\R.exe CMD check --no-multiarch --install=check:AnVIL.install-out.txt --library=F:\biocbuild\bbs-3.22-bioc\R\library --no-vignettes --timings AnVIL_1.21.9.tar.gz StartedAt: 2025-08-15 00:30:47 -0400 (Fri, 15 Aug 2025) EndedAt: 2025-08-15 00:31:45 -0400 (Fri, 15 Aug 2025) EllapsedTime: 57.8 seconds RetCode: 0 Status: OK CheckDir: AnVIL.Rcheck Warnings: 0