Package: AnVIL Version: 1.21.9 Command: rm -rf AnVIL.buildbin-libdir && mkdir AnVIL.buildbin-libdir && F:\biocbuild\bbs-3.22-bioc\R\bin\R.exe CMD INSTALL --build --library=AnVIL.buildbin-libdir AnVIL_1.21.9.tar.gz StartedAt: 2025-08-15 09:43:51 -0400 (Fri, 15 Aug 2025) EndedAt: 2025-08-15 09:44:17 -0400 (Fri, 15 Aug 2025) EllapsedTime: 26.7 seconds RetCode: 0 Status: OK PackageFile: AnVIL_1.21.9.zip PackageFileSize: 1.025 MiB