Package: AnVIL Version: 1.21.10 Command: /home/biocbuild/bbs-3.22-bioc/R/bin/R CMD INSTALL AnVIL StartedAt: 2025-10-17 15:08:37 -0400 (Fri, 17 Oct 2025) EndedAt: 2025-10-17 15:08:44 -0400 (Fri, 17 Oct 2025) EllapsedTime: 6.6 seconds RetCode: 0 Status: OK