Package: AnVIL Version: 1.21.10 Command: /Library/Frameworks/R.framework/Resources/bin/R CMD check --install=check:AnVIL.install-out.txt --library=/Library/Frameworks/R.framework/Resources/library --no-vignettes --timings AnVIL_1.21.10.tar.gz StartedAt: 2025-10-19 20:20:22 -0400 (Sun, 19 Oct 2025) EndedAt: 2025-10-19 20:21:20 -0400 (Sun, 19 Oct 2025) EllapsedTime: 57.5 seconds RetCode: 0 Status: OK CheckDir: AnVIL.Rcheck Warnings: 0