Package: AnVIL Version: 1.21.10 Command: rm -rf AnVIL.buildbin-libdir && mkdir AnVIL.buildbin-libdir && /Users/biocbuild/BBS/utils/build-universal.sh AnVIL_1.21.10.tar.gz /Library/Frameworks/R.framework/Resources/bin/R AnVIL.buildbin-libdir StartedAt: 2025-10-18 02:45:13 -0400 (Sat, 18 Oct 2025) EndedAt: 2025-10-18 02:45:23 -0400 (Sat, 18 Oct 2025) EllapsedTime: 10.5 seconds RetCode: 0 Status: OK PackageFile: AnVIL_1.21.10.tgz PackageFileSize: 1.021 MiB