Package: AnVIL Version: 1.21.10 Command: /Library/Frameworks/R.framework/Resources/bin/R CMD INSTALL AnVIL StartedAt: 2025-10-17 15:05:12 -0400 (Fri, 17 Oct 2025) EndedAt: 2025-10-17 15:05:15 -0400 (Fri, 17 Oct 2025) EllapsedTime: 3.1 seconds RetCode: 0 Status: OK